BEGIN:VCALENDAR
VERSION:2.0
PRODID:-//Sistas in STEM - ECPv6.15.20//NONSGML v1.0//EN
CALSCALE:GREGORIAN
METHOD:PUBLISH
X-ORIGINAL-URL:https://www.sistasinstem.org
X-WR-CALDESC:Events for Sistas in STEM
REFRESH-INTERVAL;VALUE=DURATION:PT1H
X-Robots-Tag:noindex
X-PUBLISHED-TTL:PT1H
BEGIN:VTIMEZONE
TZID:America/Chicago
BEGIN:DAYLIGHT
TZOFFSETFROM:-0600
TZOFFSETTO:-0500
TZNAME:CDT
DTSTART:20170312T080000
END:DAYLIGHT
BEGIN:STANDARD
TZOFFSETFROM:-0500
TZOFFSETTO:-0600
TZNAME:CST
DTSTART:20171105T070000
END:STANDARD
BEGIN:DAYLIGHT
TZOFFSETFROM:-0600
TZOFFSETTO:-0500
TZNAME:CDT
DTSTART:20180311T080000
END:DAYLIGHT
BEGIN:STANDARD
TZOFFSETFROM:-0500
TZOFFSETTO:-0600
TZNAME:CST
DTSTART:20181104T070000
END:STANDARD
BEGIN:DAYLIGHT
TZOFFSETFROM:-0600
TZOFFSETTO:-0500
TZNAME:CDT
DTSTART:20190310T080000
END:DAYLIGHT
BEGIN:STANDARD
TZOFFSETFROM:-0500
TZOFFSETTO:-0600
TZNAME:CST
DTSTART:20191103T070000
END:STANDARD
END:VTIMEZONE
BEGIN:VEVENT
DTSTART;TZID=America/Chicago:20180709T090000
DTEND;TZID=America/Chicago:20180803T140000
DTSTAMP:20260425T090455
CREATED:20180615T191102Z
LAST-MODIFIED:20180615T191102Z
UID:655-1531126800-1533304800@www.sistasinstem.org
SUMMARY:Vision Outreach STEM Summer Camp
DESCRIPTION:The Vision Outreach STEM Summer Camp is back! This summer they will be hosting their camp for children 7-15 years old in Chicago\, IL. They’ll have 4 weeks filled with fun focusing on Science\, Technology\, Engineering\, and Math activities at Clissold School from 9am-2pm. Before and after care options are available. Hurry spots are limited! \nFor more information\, visit VisionOutreachChicago.org. You can contact the Executive Director\, Shaunte Brewer\, at sbrewer@visionoutreachchicago.org with any questions you may have.
URL:https://www.sistasinstem.org/events/vision-outreach-stem-summer-camp/
LOCATION:Clissold School\, 2350 W 110th Place\, Chicago\, IL\, 60643\, United States
CATEGORIES:Summer Camp
ATTACH;FMTTYPE=image/jpeg:https://www.sistasinstem.org/wp-content/uploads/2018/06/VISION-Summer-Camp-Flyer-2.jpg
ORGANIZER;CN="Vision Outreach":MAILTO:sbrewer@visionoutreachchicago.org
END:VEVENT
END:VCALENDAR